BEGIN:VCALENDAR
VERSION:2.0
PRODID:-//NHBSR - ECPv6.15.4//NONSGML v1.0//EN
CALSCALE:GREGORIAN
METHOD:PUBLISH
X-WR-CALNAME:NHBSR
X-ORIGINAL-URL:https://nhbsr.org
X-WR-CALDESC:Events for NHBSR
REFRESH-INTERVAL;VALUE=DURATION:PT1H
X-Robots-Tag:noindex
X-PUBLISHED-TTL:PT1H
BEGIN:VTIMEZONE
TZID:America/New_York
BEGIN:DAYLIGHT
TZOFFSETFROM:-0500
TZOFFSETTO:-0400
TZNAME:EDT
DTSTART:20240310T070000
END:DAYLIGHT
BEGIN:STANDARD
TZOFFSETFROM:-0400
TZOFFSETTO:-0500
TZNAME:EST
DTSTART:20241103T060000
END:STANDARD
BEGIN:DAYLIGHT
TZOFFSETFROM:-0500
TZOFFSETTO:-0400
TZNAME:EDT
DTSTART:20250309T070000
END:DAYLIGHT
BEGIN:STANDARD
TZOFFSETFROM:-0400
TZOFFSETTO:-0500
TZNAME:EST
DTSTART:20251102T060000
END:STANDARD
BEGIN:DAYLIGHT
TZOFFSETFROM:-0500
TZOFFSETTO:-0400
TZNAME:EDT
DTSTART:20260308T070000
END:DAYLIGHT
BEGIN:STANDARD
TZOFFSETFROM:-0400
TZOFFSETTO:-0500
TZNAME:EST
DTSTART:20261101T060000
END:STANDARD
END:VTIMEZONE
BEGIN:VEVENT
DTSTART;TZID=America/New_York:20260131T080000
DTEND;TZID=America/New_York:20260131T180000
DTSTAMP:20260421T054925
CREATED:20241218T213316Z
LAST-MODIFIED:20260204T192228Z
UID:6993-1769846400-1769882400@nhbsr.org
SUMMARY:Request for Proposals
DESCRIPTION:Now accepting proposals for speaking opportunities at NHBSR’s upcoming Spring conference\nNHBSR welcomes proposals for the conference and relevant programs that we offer throughout the year. \nConference info:\nThe Power of US: Shaping our Shared Future\nThursday\, May 14\, 2026\nGrappone Conference Center\, Concord\, NH\nSubmit your proposal here. \nThe submission deadline is Jan 31\, 2026.
URL:https://nhbsr.org/event/request-for-proposals/
LOCATION:NH
CATEGORIES:Spring Conference
ATTACH;FMTTYPE=image/png:https://nhbsr.org/wp-content/uploads/2024/12/Conf-RFP-web-1600-x-900-px-2.png
ORGANIZER;CN="Zeina Eyceoz":MAILTO:zeina@nhbsr.org
END:VEVENT
BEGIN:VEVENT
DTSTART;TZID=America/New_York:20250522T073000
DTEND;TZID=America/New_York:20250522T173000
DTSTAMP:20260421T054925
CREATED:20250408T180656Z
LAST-MODIFIED:20250408T180818Z
UID:7405-1747899000-1747935000@nhbsr.org
SUMMARY:2025 Spring Conference
DESCRIPTION:Join us for an event brimming with inspiration\, innovation\, and meaningful connections. Dive into engaging sessions featuring interactive exercises\, lively discussions geared towards actionable insights\, and networking with like-minded peers. Don’t miss our mid-day awards ceremony\, recognizing excellence and innovation in our community. Plus\, enjoy complimentary breakfast\, lunch\, and networking nibbles to fuel your day of learning and collaboration. We can’t wait to see you there!
URL:https://nhbsr.org/event/2025-spring-conference/
LOCATION:Grappone Conference Center\, 70 Constitution Ave\, Concord\, NH\, 03301\, United States
CATEGORIES:Spring Conference
ATTACH;FMTTYPE=image/png:https://nhbsr.org/wp-content/uploads/2025/04/conf-event.png
ORGANIZER;CN="Zeina Eyceoz":MAILTO:zeina@nhbsr.org
END:VEVENT
BEGIN:VEVENT
DTSTART;TZID=America/New_York:20240502T073000
DTEND;TZID=America/New_York:20240502T173000
DTSTAMP:20260421T054925
CREATED:20240409T171517Z
LAST-MODIFIED:20240409T171517Z
UID:5615-1714635000-1714671000@nhbsr.org
SUMMARY:2024 Spring Conference
DESCRIPTION:Join us for an event brimming with inspiration\, innovation\, and meaningful connections. Dive into engaging sessions featuring interactive exercises\, lively discussions geared towards actionable insights\, and networking with like-minded peers. Don’t miss our mid-day awards ceremony\, recognizing excellence and innovation in our community. Plus\, enjoy complimentary breakfast\, lunch\, and networking nibbles to fuel your day of learning and collaboration. We can’t wait to see you there!
URL:https://nhbsr.org/event/2024-spring-conference/
LOCATION:Grappone Conference Center\, 70 Constitution Ave\, Concord\, NH\, 03301\, United States
CATEGORIES:Spring Conference
ATTACH;FMTTYPE=image/png:https://nhbsr.org/wp-content/uploads/2024/04/conf-event.png
ORGANIZER;CN="Zeina Eyceoz":MAILTO:zeina@nhbsr.org
END:VEVENT
END:VCALENDAR